BEGIN:VCALENDAR
VERSION:2.0
PRODID:-//blgastro.de - ECPv6.15.18//NONSGML v1.0//EN
CALSCALE:GREGORIAN
METHOD:PUBLISH
X-ORIGINAL-URL:https://blgastro.de
X-WR-CALDESC:Veranstaltungen für blgastro.de
REFRESH-INTERVAL;VALUE=DURATION:PT1H
X-Robots-Tag:noindex
X-PUBLISHED-TTL:PT1H
BEGIN:VTIMEZONE
TZID:Europe/Berlin
BEGIN:DAYLIGHT
TZOFFSETFROM:+0100
TZOFFSETTO:+0200
TZNAME:CEST
DTSTART:20230326T010000
END:DAYLIGHT
BEGIN:STANDARD
TZOFFSETFROM:+0200
TZOFFSETTO:+0100
TZNAME:CET
DTSTART:20231029T010000
END:STANDARD
BEGIN:DAYLIGHT
TZOFFSETFROM:+0100
TZOFFSETTO:+0200
TZNAME:CEST
DTSTART:20240331T010000
END:DAYLIGHT
BEGIN:STANDARD
TZOFFSETFROM:+0200
TZOFFSETTO:+0100
TZNAME:CET
DTSTART:20241027T010000
END:STANDARD
BEGIN:DAYLIGHT
TZOFFSETFROM:+0100
TZOFFSETTO:+0200
TZNAME:CEST
DTSTART:20250330T010000
END:DAYLIGHT
BEGIN:STANDARD
TZOFFSETFROM:+0200
TZOFFSETTO:+0100
TZNAME:CET
DTSTART:20251026T010000
END:STANDARD
END:VTIMEZONE
BEGIN:VEVENT
DTSTART;VALUE=DATE:20241017
DTEND;VALUE=DATE:20241018
DTSTAMP:20260422T000915
CREATED:20240819T072219Z
LAST-MODIFIED:20240819T073606Z
UID:10000017-1729152000-1729184400@blgastro.de
SUMMARY:Seminar - Einstieg / Ausbau von Food-Service-Anbietern in den Markt Gemeinschaftsverpflegung
DESCRIPTION:Dieses Seminar behandelt den Einstieg bzw. den Ausbau von Food-Service Anbietern in den Markt Gemeinschaftsverpflegung. \n  \n\n\n\n\n\n\n\n\n\n\nThemenschwerpunkte: \n\nVoraussetzungen\, Strategie-Entwicklungen\, Kundenbedürfnisse\, Eintrittsbarieren\, Vertriebskanäl sowie Projektbeispiele\n\nReferenten: \n\n\n\n\n\n\n\n\n\n\n\nArmin Maurer AMU\, Stefan Henter Cantibo
URL:https://blgastro.de/event/seminar-einstieg-ausbau-von-food-service-anbietern-in-den-markt-gemeinschaftsverpflegung/2024-10-17/
LOCATION:Köln bzw. Frankfurt
CATEGORIES:Seminar
ORGANIZER;CN="Armin Maurer Unternehmensbeatung":MAILTO:armin.maurer@netcologne.de
END:VEVENT
BEGIN:VEVENT
DTSTART;VALUE=DATE:20241015
DTEND;VALUE=DATE:20241016
DTSTAMP:20260422T000915
CREATED:20240819T072219Z
LAST-MODIFIED:20240819T073606Z
UID:10000016-1728979200-1729011600@blgastro.de
SUMMARY:Seminar - Einstieg / Ausbau von Food-Service-Anbietern in den Markt Gemeinschaftsverpflegung
DESCRIPTION:Dieses Seminar behandelt den Einstieg bzw. den Ausbau von Food-Service Anbietern in den Markt Gemeinschaftsverpflegung. \n  \n\n\n\n\n\n\n\n\n\n\nThemenschwerpunkte: \n\nVoraussetzungen\, Strategie-Entwicklungen\, Kundenbedürfnisse\, Eintrittsbarieren\, Vertriebskanäl sowie Projektbeispiele\n\nReferenten: \n\n\n\n\n\n\n\n\n\n\n\nArmin Maurer AMU\, Stefan Henter Cantibo
URL:https://blgastro.de/event/seminar-einstieg-ausbau-von-food-service-anbietern-in-den-markt-gemeinschaftsverpflegung/2024-10-15/
LOCATION:Köln bzw. Frankfurt
CATEGORIES:Seminar
ORGANIZER;CN="Armin Maurer Unternehmensbeatung":MAILTO:armin.maurer@netcologne.de
END:VEVENT
BEGIN:VEVENT
DTSTART;VALUE=DATE:20240926
DTEND;VALUE=DATE:20240927
DTSTAMP:20260422T000915
CREATED:20240819T072219Z
LAST-MODIFIED:20240819T073606Z
UID:10000015-1727308800-1727395199@blgastro.de
SUMMARY:Seminar - Einstieg / Ausbau von Food-Service-Anbietern in den Markt Gemeinschaftsverpflegung
DESCRIPTION:Dieses Seminar behandelt den Einstieg bzw. den Ausbau von Food-Service Anbietern in den Markt Gemeinschaftsverpflegung. \n  \n\n\n\n\n\n\n\n\n\n\nThemenschwerpunkte: \n\nVoraussetzungen\, Strategie-Entwicklungen\, Kundenbedürfnisse\, Eintrittsbarieren\, Vertriebskanäl sowie Projektbeispiele\n\nReferenten: \n\n\n\n\n\n\n\n\n\n\n\nArmin Maurer AMU\, Stefan Henter Cantibo
URL:https://blgastro.de/event/seminar-einstieg-ausbau-von-food-service-anbietern-in-den-markt-gemeinschaftsverpflegung/2024-09-26/
LOCATION:Köln bzw. Frankfurt
CATEGORIES:Seminar
ORGANIZER;CN="Armin Maurer Unternehmensbeatung":MAILTO:armin.maurer@netcologne.de
END:VEVENT
END:VCALENDAR