BEGIN:VCALENDAR
VERSION:2.0
PRODID:-//blgastro.de - ECPv6.15.18//NONSGML v1.0//EN
CALSCALE:GREGORIAN
METHOD:PUBLISH
X-WR-CALNAME:blgastro.de
X-ORIGINAL-URL:https://blgastro.de
X-WR-CALDESC:Veranstaltungen für blgastro.de
REFRESH-INTERVAL;VALUE=DURATION:PT1H
X-Robots-Tag:noindex
X-PUBLISHED-TTL:PT1H
BEGIN:VTIMEZONE
TZID:Europe/Berlin
BEGIN:DAYLIGHT
TZOFFSETFROM:+0100
TZOFFSETTO:+0200
TZNAME:CEST
DTSTART:20230326T010000
END:DAYLIGHT
BEGIN:STANDARD
TZOFFSETFROM:+0200
TZOFFSETTO:+0100
TZNAME:CET
DTSTART:20231029T010000
END:STANDARD
BEGIN:DAYLIGHT
TZOFFSETFROM:+0100
TZOFFSETTO:+0200
TZNAME:CEST
DTSTART:20240331T010000
END:DAYLIGHT
BEGIN:STANDARD
TZOFFSETFROM:+0200
TZOFFSETTO:+0100
TZNAME:CET
DTSTART:20241027T010000
END:STANDARD
BEGIN:DAYLIGHT
TZOFFSETFROM:+0100
TZOFFSETTO:+0200
TZNAME:CEST
DTSTART:20250330T010000
END:DAYLIGHT
BEGIN:STANDARD
TZOFFSETFROM:+0200
TZOFFSETTO:+0100
TZNAME:CET
DTSTART:20251026T010000
END:STANDARD
END:VTIMEZONE
BEGIN:VEVENT
DTSTART;TZID=Europe/Berlin:20241127T093000
DTEND;TZID=Europe/Berlin:20241127T160000
DTSTAMP:20260421T145706
CREATED:20241118T130539Z
LAST-MODIFIED:20241118T130539Z
UID:10000052-1732699800-1732723200@blgastro.de
SUMMARY:Chefs Vegan – Fortgeschrittene
DESCRIPTION:Veni\, vidi\, veggie! Die grüne Küche ist weiterhin auf dem Vormarsch. Kein Wunder\, denn sie ist vielseitig und äußerst kreativ. Wer dabei nur an die obligatorische Gemüseplatte und Nudeln mit Tomatensauce denkt\, hat weit gefehlt: In diesem Workshop zeigen Ihnen unsere Expert:innen\, wie Sie Ihre Gäste mit trendigen\, schmackhaften und gesunden Gerichten überzeugen. Außerdem erhalten Sie wissenswertes Know-how rund um die vegane Küche und entdecken in Vergessenheit geratene Lebensmittel ganz neu. Zudem erlernen Sie moderne Küchentechniken.
URL:https://blgastro.de/event/chefs-vegan-fortgeschrittene/
LOCATION:Ausbildungsverbund Teltow berufliches Bildungszentrum\, Oderstraße 57\, Teltow\, Deutschland
CATEGORIES:Seminar
END:VEVENT
BEGIN:VEVENT
DTSTART;TZID=Europe/Berlin:20241127T093000
DTEND;TZID=Europe/Berlin:20241127T160000
DTSTAMP:20260421T145706
CREATED:20240820T090531Z
LAST-MODIFIED:20240820T090531Z
UID:10000024-1732699800-1732723200@blgastro.de
SUMMARY:Kocherlebnis für den kreativen Profi - Chefs Vegan FORTGESCHRITTEN
DESCRIPTION:Veni\, vidi\, veggie! Die grüne Küche ist weiterhin auf dem Vormarsch. Kein Wunder\, denn sie ist vielseitig und äußerst kreativ. Wer dabei nur an die obligatorische Gemüseplatte und Nudeln mit Tomatensauce denkt\, hat weit gefehlt: In diesem Workshop zeigen Ihnen unsere Expert:innen\, wie Sie Ihre Gäste mit trendigen\, schmackhaften und gesunden Gerichten überzeugen. Außerdem erhalten Sie wissenswertes Know-how rund um die vegane Küche und entdecken in Vergessenheit geratene Lebensmittel ganz neu. Zudem erlernen Sie moderne Küchentechniken. \nSeminarinhalte\n\nDefinitionen der unterschiedlichen Ernährungsformen\nSinnvoller Einsatz von Fleisch-Ersatzprodukten\nInspirierende Rezeptideen\nZubereitung von veganen Gerichten unter Berücksichtigung von Ernährungsempfehlungen\nPraktischer Umgang mit „alten“ und „neuen“ Lebensmitteln
URL:https://blgastro.de/event/kocherlebnis-fuer-den-kreativen-profi-chefs-vegan-fortgeschritten/
LOCATION:Ausbildungsverbund Teltow berufliches Bildungszentrum\, Oderstraße 57\, Teltow\, Deutschland
CATEGORIES:Seminar
END:VEVENT
END:VCALENDAR